BEGIN:VCALENDAR
VERSION:2.0
PRODID:-//Squarespace Inc/Squarespace 6//v6//EN
BEGIN:VEVENT
UID:57bffc4820099e9a8f6bb0d6@squarespace.com
DTSTAMP:20160902T032904Z
DTSTART:20170114T133000Z
DTEND:20170117T213000Z
SUMMARY:Brisbane Shoe Fair
GEO:-27.468854;153.036649
LOCATION:Bridgewater Apartments\, 55 Baildon Street\, Kangaroo Point\, QLD\
 , 4169\, Australia
END:VEVENT
END:VCALENDAR
