BEGIN:VCALENDAR
VERSION:2.0
PRODID:-//Squarespace Inc/Squarespace 6//v6//EN
BEGIN:VEVENT
UID:57bffda6893fc0f1d1c06595@squarespace.com
DTSTAMP:20160902T032936Z
DTSTART:20170121T133000Z
DTEND:20170124T213000Z
SUMMARY:Sydney Shoe Fair
GEO:-33.883873;151.213878
LOCATION:Adina Apartment Hotel\, 359 Crown Street\, Surry Hills\, NSW\, 201
 0\, Australia
END:VEVENT
END:VCALENDAR
