BEGIN:VCALENDAR
VERSION:2.0
PRODID:-//Squarespace Inc/Squarespace 6//v6//EN
BEGIN:VEVENT
UID:58ed9261a5790ade707c0365@squarespace.com
DTSTAMP:20170921T131204Z
DTSTART:20170410T010000Z
DTEND:20170519T090000Z
SUMMARY:MELBOURNE: Mephisto & TBS AW2018 Showroom Dates
GEO:-37.844089;145.042712
LOCATION:11 Hall Street\, Hawthorn East\, VIC\, 3123\, Australia
END:VEVENT
END:VCALENDAR
