BEGIN:VCALENDAR
VERSION:2.0
PRODID:-//Squarespace Inc/Squarespace 6//v6//EN
BEGIN:VEVENT
UID:58ed93071b10e3297e1a2149@squarespace.com
DTSTAMP:20170921T131413Z
DTSTART:20170403T010000Z
DTEND:20170519T090000Z
SUMMARY:PERTH: Mephisto & TBS AW2018 Showroom Dates
GEO:-31.96893;115.894491
LOCATION:PC Brands\, 28 Teddington Road\, Burswood\, WA\, 6100\, Australia
END:VEVENT
END:VCALENDAR
