BEGIN:VCALENDAR
VERSION:2.0
PRODID:-//Squarespace Inc/Squarespace 6//v6//EN
BEGIN:VEVENT
UID:58ed942f8419c2d4fd346038@squarespace.com
DTSTAMP:20190531T080405Z
DTSTART:20190727T010000Z
DTEND:20190729T090000Z
SUMMARY:Sydney Shoe Fair Exhibition
GEO:-33.884127;151.213978
LOCATION:Adina Apartment Hotel\, 359 Crown Street\, Surry Hills\, NSW\, 201
 0\, Australia
END:VEVENT
END:VCALENDAR
