BEGIN:VCALENDAR
VERSION:2.0
PRODID:-//Squarespace Inc/Squarespace 6//v6//EN
BEGIN:VEVENT
UID:58ed94611e5b6c8ff16ffe3a@squarespace.com
DTSTAMP:20190531T080321Z
DTSTART:20190817T010000Z
DTEND:20190819T090000Z
SUMMARY:Brisbane Shoe Fair Exhibition
GEO:-27.472104;153.037898
LOCATION:Central Dockside Apartments\, 44 Ferry Street\, Kangaroo Point\, Q
 LD\, 4169\, Australia
END:VEVENT
END:VCALENDAR
