BEGIN:VCALENDAR
VERSION:2.0
PRODID:-//Squarespace Inc/Squarespace 6//v6//EN
BEGIN:VEVENT
UID:58ed93f915d5db117705c139@squarespace.com
DTSTAMP:20190531T080439Z
DTSTART:20190803T010000Z
DTEND:20190805T090000Z
SUMMARY:Melbourne Shoe Fair Exhibition
GEO:-37.815962;144.971798
LOCATION:Adina Apartment Hotel\, 88 Flinders Street\, Melbourne\, VIC\, 300
 0\, Australia
END:VEVENT
END:VCALENDAR
