BEGIN:VCALENDAR
VERSION:2.0
PRODID:-//Squarespace Inc/Squarespace 6//v6//EN
BEGIN:VEVENT
UID:59c3ba49f09ca486ca275437@squarespace.com
DTSTAMP:20181121T031750Z
DTSTART:20190209T010000Z
DTEND:20190211T100000Z
SUMMARY:Adelaide Summer Shoe Fair Exhibition
GEO:-34.926994;138.600374
LOCATION:Adina Apartment Hotel\, 2 Flinders Street\, Adelaide\, SA\, 5000\, 
 Australia
END:VEVENT
END:VCALENDAR
