BEGIN:VCALENDAR
VERSION:2.0
PRODID:-//Squarespace Inc/Squarespace 6//v6//EN
BEGIN:VEVENT
UID:59c3b9df6f4ca3379df85917@squarespace.com
DTSTAMP:20170921T131021Z
DTSTART:20180120T010000Z
DTEND:20180122T100000Z
SUMMARY:Brisbane Shoe Fair Exhibition
GEO:-27.468863;153.036829
LOCATION:Bridgewater Apartments\, 55 Baildon Street\, Kangaroo Point\, QLD\
 , 4169\, Australia
END:VEVENT
END:VCALENDAR
