BEGIN:VCALENDAR
VERSION:2.0
PRODID:-//Squarespace Inc/Squarespace 6//v6//EN
BEGIN:VEVENT
UID:59c3b95e90bade91ef956820@squarespace.com
DTSTAMP:20170921T130837Z
DTSTART:20180113T010000Z
DTEND:20180115T100000Z
SUMMARY:Sydney Shoe Fair Exhibition
GEO:-33.884127;151.213978
LOCATION:Adina Apartment Hotel\, 359 Crown Street\, Surry Hills\, NSW\, 201
 0\, Australia
END:VEVENT
END:VCALENDAR
