BEGIN:VCALENDAR
VERSION:2.0
PRODID:-//Squarespace Inc/Squarespace 6//v6//EN
BEGIN:VEVENT
UID:5ac71e10aa4a9945f38bdea1@squarespace.com
DTSTAMP:20181121T031415Z
DTSTART:20190202T003000Z
DTEND:20190204T103000Z
SUMMARY:Melbourne Summer Shoe Fair Exhibition
GEO:-37.815962;144.971798
LOCATION:Adina Apartment Hotel\, 88 Flinders Street\, Melbourne\, VIC\, 300
 0\, Australia
END:VEVENT
END:VCALENDAR
