BEGIN:VCALENDAR
VERSION:2.0
PRODID:-//Squarespace Inc/Squarespace 6//v6//EN
BEGIN:VEVENT
UID:5ac721a188251b5152fab45e@squarespace.com
DTSTAMP:20181121T031816Z
DTSTART:20190223T003000Z
DTEND:20190225T103000Z
SUMMARY:Sydney Summer Shoe Fair Exhibition
GEO:-33.876015;151.229017
LOCATION:Vibe Hotel\, 100 Bayswater Road\, Rushcutters Bay\, NSW\, 2011\, A
 ustralia
END:VEVENT
END:VCALENDAR
