BEGIN:VCALENDAR
VERSION:2.0
PRODID:-//Squarespace Inc/Squarespace 6//v6//EN
BEGIN:VEVENT
UID:5ac722071ae6cf2527530b47@squarespace.com
DTSTAMP:20181121T031315Z
DTSTART:20190216T003000Z
DTEND:20190218T103000Z
SUMMARY:Brisbane Summer Shoe Fair Exhibition
GEO:-27.468891;153.036788
LOCATION:Bridgewater Apartments\, 55 Baildon Street\, Kangaroo Point\, QLD\
 , 4169\, Australia
END:VEVENT
END:VCALENDAR
