BEGIN:VCALENDAR
VERSION:2.0
PRODID:-//Squarespace Inc/Squarespace 6//v6//EN
BEGIN:VEVENT
UID:5df1df7373bd39119312a4fa@squarespace.com
DTSTAMP:20191212T070426Z
DTSTART:20200118T010000Z
DTEND:20200120T100000Z
SUMMARY:Brisbane Spring Summer 2020 Shoe Fair Exhibition
GEO:-27.477717;153.014275
LOCATION:Arena Apartments\, 9 Edmondstone Street\, South Brisbane\, QLD\, 4
 101\, Australia
END:VEVENT
END:VCALENDAR
