BEGIN:VCALENDAR
VERSION:2.0
PRODID:-//Squarespace Inc/Squarespace 6//v6//EN
BEGIN:VEVENT
UID:5df1e6b9ed917042ff63d139@squarespace.com
DTSTAMP:20191212T070743Z
DTSTART:20200208T010000Z
DTEND:20200210T100000Z
SUMMARY:Melbourne Spring Summer 2020 Shoe Fair Exhibition
GEO:-37.815962;144.971798
LOCATION:Adina Apartment Hotel\, 88 Flinders Street\, Melbourne\, VIC\, 300
 0\, Australia
END:VEVENT
END:VCALENDAR
