BEGIN:VCALENDAR
VERSION:2.0
PRODID:-//Squarespace Inc/Squarespace 6//v6//EN
BEGIN:VEVENT
UID:5df1e5c05b62b55cb7625798@squarespace.com
DTSTAMP:20191212T070408Z
DTSTART:20200201T010000Z
DTEND:20200203T100000Z
SUMMARY:Sydney Spring Summer 2020 Shoe Fair Exhibition
GEO:-33.884127;151.213978
LOCATION:Adina Apartment Hotel\, 359 Crown Street\, Surry Hills\, NSW\, 201
 0\, Australia
END:VEVENT
END:VCALENDAR
